BEGIN:VCALENDAR
PRODID:NingEventWidget-v1
VERSION:2.0
METHOD:PUBLISH
BEGIN:VTIMEZONE
TZID:America/New_York
X-LIC-LOCATION:America/New_York
BEGIN:DAYLIGHT
TZOFFSETFROM:-0500
TZOFFSETTO:-0400
TZNAME:EDT
DTSTART:19700308T020000
RRULE:FREQ=YEARLY;BYMONTH=3;BYDAY=2SU
END:DAYLIGHT
BEGIN:STANDARD
TZOFFSETFROM:-0400
TZOFFSETTO:-0500
TZNAME:EST
DTSTART:19701101T020000
RRULE:FREQ=YEARLY;BYMONTH=11;BYDAY=1SU
END:STANDARD
END:VTIMEZONE
BEGIN:VEVENT
UID:1992146:Event:161588
DTSTAMP:20260422T100350Z
SUMMARY:HEALING SELF, HEALING EARTH WITH AUTHOR ROY HOLMAN
DESCRIPTION:\n \nRoy HolmanNamaste.  I began teaching yoga and medit
 ation in 2000, and I basically teach what has been helping me grow, aw
 aken, and heal old wounds. I have found yoga, meditation, retreats, an
 d hiking in nature to be very helpful in my own personal healing. I am
  passionate about teaching, serving, and witnessing as we awaken to ou
 r true passion, purpose and power.  My goal, in short, is to help us 
 remember who we are.\nI have lived abroad for over five years, includi
 ng travels around Australia, New Zealand, and Indonesia in 1986, and a
 ll around the globe in 1988, biking around Western Europe, then by tra
 in across the former Soviet Union, and through China. I graduated from
  UC Santa Cruz in 1991 with a BA in Sociology-Psychology. I then joine
 d fact-finding delegations to Central America, and lived in Guatemala 
 for almost three years doing human rights work, refugee work, teaching
 , and researching the effects of US policy.\nI discovered yoga and med
 itation in 1995, at a very challenging time in my life, when my life w
 as a mess and I was beginning the inner journey.  Yoga helped me grou
 nd, center, and find myself.  I’ll never forget the feeling after m
 y first yoga class – it was a revelation.\nI completed a two year Ha
 nds-on, Heart-centered Energy Healing course in Seattle in 1998, then 
 completed a Meditation and Healing teacher’s training course in 2000
 , and was also ordained as a Minister. I was then certified as a refle
 xologist in 2005. I am a 500 hour Certified Yoga teacher, in the Viniy
 oga tradition. The style of yoga I teach is a grounded, breath-connect
 ed, meditative, flowing traditional hatha yoga - a meditation in motio
 n really. I call it “Feel Good” Yoga, because I simply teach what 
 feels best to me, my body, and my students. I include breathwork (pran
 ayama) and meditation, and also try to incorporate the many aspects of
  healing I have learned into my classes. I finished writing my first 
 book in May of 2010, and have two more in the works: one is my autobio
 graphy and one with my poetry.\nMy spiritual belief system is simple: 
 I try to see Spirit - Divinity in everyone and everything, from lookin
 g into my cat’s eyes, to walking in an old growth forest. One of my 
 favorite joys in teaching is seeing the look in the students’ eyes a
 t the end of class. This is what yoga is all about – integration of 
 body, mind, emotions, and spirit.  Ultimately, we are all connected, 
 and made up of the same sacred energy, and the sooner we remember this
 , the sooner we will create a more kind and compassionate world.  I p
 resently live in Everett , Washington , with my cool cat Mo (my guru!)
 .  \n \n\n\nFor more information visit https://mypeace.tv/events/he
 aling-self-healing-earth
DTSTART;TZID=America/New_York:20110422T180000
DTEND;TZID=America/New_York:20110422T200000
CATEGORIES:live, radio, broadcast
LOCATION:WORLD WIDE
WEBSITE:http://www.blogtalkradio.com/universal-spiritual-connection
URL:http://www.blogtalkradio.com/universal-spiritual-connection
CONTACT:347.9943992
ORGANIZER;CN="USC® RADIO PRODUCTIONS™":https://mypeace.tv/profile/U
 NIVERSALSPIRITUALCONNECTIONr
ATTACH;FMTTYPE="image/jpeg":http://storage.ning.com/topology/rest/1.0/
 file/get/2254696132?profile=original
ATTENDEE;ROLE=REQ-PARTICIPANT;PARTSTAT=ACCEPTED;RSVP=TRUE;CN="USC® RA
 DIO PRODUCTIONS™":https://mypeace.tv/profile/UNIVERSALSPIRITUALCONNE
 CTIONr
END:VEVENT
END:VCALENDAR
